BEGIN:VCALENDAR
VERSION:2.0
PRODID:-//CEG - ECPv6.15.20//NONSGML v1.0//EN
CALSCALE:GREGORIAN
METHOD:PUBLISH
X-ORIGINAL-URL:https://cegsoflo.org
X-WR-CALDESC:Events for CEG
REFRESH-INTERVAL;VALUE=DURATION:PT1H
X-Robots-Tag:noindex
X-PUBLISHED-TTL:PT1H
BEGIN:VTIMEZONE
TZID:UTC
BEGIN:STANDARD
TZOFFSETFROM:+0000
TZOFFSETTO:+0000
TZNAME:UTC
DTSTART:20240101T000000
END:STANDARD
END:VTIMEZONE
BEGIN:VEVENT
DTSTART;TZID=UTC:20251107T100000
DTEND;TZID=UTC:20251107T110000
DTSTAMP:20260423T220441
CREATED:20250221T171942Z
LAST-MODIFIED:20250228T120021Z
UID:3663-1762509600-1762513200@cegsoflo.org
SUMMARY:CEG Bi-Monthly Meeting November
DESCRIPTION:Date: November 7\, 2025\nTime: 10:00 AM\nRSVP to attend – Click Here.
URL:https://cegsoflo.org/event/ceg-bi-monthly-meeting-november-3/
CATEGORIES:Upcoming Events
ATTACH;FMTTYPE=image/png:https://cegsoflo.org/wp-content/uploads/2025/02/11.07.25.png
END:VEVENT
END:VCALENDAR