BEGIN:VCALENDAR
VERSION:2.0
PRODID:-//CEG - ECPv6.15.20//NONSGML v1.0//EN
CALSCALE:GREGORIAN
METHOD:PUBLISH
X-WR-CALNAME:CEG
X-ORIGINAL-URL:https://cegsoflo.org
X-WR-CALDESC:Events for CEG
REFRESH-INTERVAL;VALUE=DURATION:PT1H
X-Robots-Tag:noindex
X-PUBLISHED-TTL:PT1H
BEGIN:VTIMEZONE
TZID:UTC
BEGIN:STANDARD
TZOFFSETFROM:+0000
TZOFFSETTO:+0000
TZNAME:UTC
DTSTART:20200101T000000
END:STANDARD
END:VTIMEZONE
BEGIN:VEVENT
DTSTART;TZID=UTC:20251107T100000
DTEND;TZID=UTC:20251107T110000
DTSTAMP:20260423T191121
CREATED:20250221T171942Z
LAST-MODIFIED:20250228T120021Z
UID:3663-1762509600-1762513200@cegsoflo.org
SUMMARY:CEG Bi-Monthly Meeting November
DESCRIPTION:Date: November 7\, 2025\nTime: 10:00 AM\nRSVP to attend – Click Here.
URL:https://cegsoflo.org/event/ceg-bi-monthly-meeting-november-3/
CATEGORIES:Upcoming Events
ATTACH;FMTTYPE=image/png:https://cegsoflo.org/wp-content/uploads/2025/02/11.07.25.png
END:VEVENT
BEGIN:VEVENT
DTSTART;TZID=UTC:20250912T100000
DTEND;TZID=UTC:20250912T110000
DTSTAMP:20260423T191121
CREATED:20250221T171838Z
LAST-MODIFIED:20250228T150254Z
UID:3661-1757671200-1757674800@cegsoflo.org
SUMMARY:CEG Bi-Monthly Meeting September
DESCRIPTION:Date: September 12\, 2025\nTime: 10:00 AM\nRSVP to attend – Click Here.
URL:https://cegsoflo.org/event/ceg-bi-monthly-meeting-september/
CATEGORIES:Upcoming Events
ATTACH;FMTTYPE=image/png:https://cegsoflo.org/wp-content/uploads/2025/02/09.12.25.png
END:VEVENT
BEGIN:VEVENT
DTSTART;TZID=UTC:20250711T100000
DTEND;TZID=UTC:20250711T110000
DTSTAMP:20260423T191121
CREATED:20250221T171713Z
LAST-MODIFIED:20250228T150219Z
UID:3657-1752228000-1752231600@cegsoflo.org
SUMMARY:CEG Bi-Monthly Meeting July
DESCRIPTION:Date: July 11\, 2025\nTime: 10:00 AM\nRSVP to attend – Click Here.
URL:https://cegsoflo.org/event/ceg-bi-monthly-meeting-july-3/
CATEGORIES:Upcoming Events
ATTACH;FMTTYPE=image/png:https://cegsoflo.org/wp-content/uploads/2025/02/07.11.25.png
END:VEVENT
BEGIN:VEVENT
DTSTART;TZID=UTC:20250509T100000
DTEND;TZID=UTC:20250509T110000
DTSTAMP:20260423T191121
CREATED:20250221T171540Z
LAST-MODIFIED:20250226T211338Z
UID:3654-1746784800-1746788400@cegsoflo.org
SUMMARY:CEG Bi-Monthly Meeting May
DESCRIPTION:Date: May 09\, 2025\nTime: 10:00 AM\nRSVP to attend – Click Here.
URL:https://cegsoflo.org/event/ceg-bi-monthly-meeting-may-2/
CATEGORIES:Upcoming Events
ATTACH;FMTTYPE=image/png:https://cegsoflo.org/wp-content/uploads/2025/02/05.09.25.png
END:VEVENT
BEGIN:VEVENT
DTSTART;TZID=UTC:20250314T100000
DTEND;TZID=UTC:20250314T110000
DTSTAMP:20260423T191121
CREATED:20250221T171344Z
LAST-MODIFIED:20250226T211342Z
UID:3651-1741946400-1741950000@cegsoflo.org
SUMMARY:CEG Bi-Monthly Meeting March
DESCRIPTION:Date: Mar 14\, 2025\nTime: 10:00 AM\nRSVP to attend – Click Here.
URL:https://cegsoflo.org/event/ceg-bi-monthly-meeting-march-2/
CATEGORIES:Upcoming Events
ATTACH;FMTTYPE=image/png:https://cegsoflo.org/wp-content/uploads/2025/02/03.14.25.png
END:VEVENT
BEGIN:VEVENT
DTSTART;TZID=UTC:20241108T100000
DTEND;TZID=UTC:20241108T110000
DTSTAMP:20260423T191121
CREATED:20240805T191747Z
LAST-MODIFIED:20240806T184956Z
UID:3494-1731060000-1731063600@cegsoflo.org
SUMMARY:CEG Bi-Monthly Meeting November
DESCRIPTION:Date: Nov 8\, 2024\nTime: 10:00 AM\nRSVP to attend – Click Here.
URL:https://cegsoflo.org/event/ceg-bi-monthly-meeting-november-2/
ATTACH;FMTTYPE=image/png:https://cegsoflo.org/wp-content/uploads/2024/08/Nov.png
END:VEVENT
BEGIN:VEVENT
DTSTART;TZID=UTC:20240913T100000
DTEND;TZID=UTC:20240913T110000
DTSTAMP:20260423T191121
CREATED:20240805T191628Z
LAST-MODIFIED:20240806T185002Z
UID:3491-1726221600-1726225200@cegsoflo.org
SUMMARY:CEG Bi-Monthly Meeting September
DESCRIPTION:Date: Sept 13\, 2024\nTime: 10:00 AM\nRSVP to attend – Click Here.
URL:https://cegsoflo.org/event/ceg-bi-monthly-meeting-september-2/
ATTACH;FMTTYPE=image/png:https://cegsoflo.org/wp-content/uploads/2024/08/Sept.png
END:VEVENT
BEGIN:VEVENT
DTSTART;TZID=UTC:20240712T100000
DTEND;TZID=UTC:20240712T110000
DTSTAMP:20260423T191121
CREATED:20240805T191414Z
LAST-MODIFIED:20240806T185010Z
UID:3489-1720778400-1720782000@cegsoflo.org
SUMMARY:CEG Bi-Monthly Meeting July
DESCRIPTION:Date: July 12\, 2024\nTime: 10:00 AM\nRSVP to attend – Click Here.
URL:https://cegsoflo.org/event/ceg-bi-monthly-meeting-july-2/
ATTACH;FMTTYPE=image/jpeg:https://cegsoflo.org/wp-content/uploads/2024/08/FB_Strat1_05181-1-3.jpg
END:VEVENT
BEGIN:VEVENT
DTSTART;TZID=UTC:20240510T100000
DTEND;TZID=UTC:20240510T110000
DTSTAMP:20260423T191121
CREATED:20240805T191325Z
LAST-MODIFIED:20240806T185047Z
UID:3487-1715335200-1715338800@cegsoflo.org
SUMMARY:CEG Bi-Monthly Meeting May
DESCRIPTION:Date: May 10\, 2024\nTime: 10:00 AM\nRSVP to attend – Click Here.
URL:https://cegsoflo.org/event/ceg-bi-monthly-meeting-may/
ATTACH;FMTTYPE=image/jpeg:https://cegsoflo.org/wp-content/uploads/2024/08/FB_Strat1_05181-1-3.jpg
END:VEVENT
BEGIN:VEVENT
DTSTART;TZID=UTC:20240308T100000
DTEND;TZID=UTC:20240308T110000
DTSTAMP:20260423T191121
CREATED:20240805T191239Z
LAST-MODIFIED:20240806T185055Z
UID:3485-1709892000-1709895600@cegsoflo.org
SUMMARY:CEG Bi-Monthly Meeting March
DESCRIPTION:Date: Mar 8\, 2024\nTime: 10:00 AM\nRSVP to attend – Click Here.
URL:https://cegsoflo.org/event/ceg-bi-monthly-meeting-march/
ATTACH;FMTTYPE=image/jpeg:https://cegsoflo.org/wp-content/uploads/2024/08/FB_Strat1_05181-1-3.jpg
END:VEVENT
BEGIN:VEVENT
DTSTART;TZID=UTC:20240119T100000
DTEND;TZID=UTC:20240119T110000
DTSTAMP:20260423T191121
CREATED:20240805T191141Z
LAST-MODIFIED:20240806T184948Z
UID:3483-1705658400-1705662000@cegsoflo.org
SUMMARY:CEG Bi-Monthly Meeting January
DESCRIPTION:Date: Jan 19\, 2024\nTime: 10:00 AM\nRSVP to attend – Click Here.
URL:https://cegsoflo.org/event/ceg-bi-monthly-meeting-january/
ATTACH;FMTTYPE=image/jpeg:https://cegsoflo.org/wp-content/uploads/2024/08/FB_Strat1_05181-1-2.jpg
END:VEVENT
BEGIN:VEVENT
DTSTART;TZID=UTC:20211112T100000
DTEND;TZID=UTC:20211112T120000
DTSTAMP:20260423T191121
CREATED:20240802T102934Z
LAST-MODIFIED:20240802T104237Z
UID:3368-1636711200-1636718400@cegsoflo.org
SUMMARY:CEG Bi-Monthly Meeting November
DESCRIPTION:Date: November 12\, 2021 \nTime: 10:00 AM
URL:https://cegsoflo.org/event/ceg-bi-monthly-meeting-november/
ATTACH;FMTTYPE=image/jpeg:https://cegsoflo.org/wp-content/uploads/2024/08/FB_Strat1_05181-1.jpg
END:VEVENT
BEGIN:VEVENT
DTSTART;TZID=UTC:20210709T100000
DTEND;TZID=UTC:20210709T120000
DTSTAMP:20260423T191121
CREATED:20240802T103801Z
LAST-MODIFIED:20240802T104541Z
UID:3375-1625824800-1625832000@cegsoflo.org
SUMMARY:CEG Bi-Monthly Meeting July
DESCRIPTION:Date: July 9\, 2021 \nTime: 10:00 AM
URL:https://cegsoflo.org/event/ceg-bi-monthly-meeting-july/
ATTACH;FMTTYPE=image/jpeg:https://cegsoflo.org/wp-content/uploads/2024/08/FB_Strat1_05181-1.jpg
END:VEVENT
BEGIN:VEVENT
DTSTART;TZID=UTC:20210514T100000
DTEND;TZID=UTC:20210514T120000
DTSTAMP:20260423T191121
CREATED:20240802T103942Z
LAST-MODIFIED:20240802T104307Z
UID:3379-1620986400-1620993600@cegsoflo.org
SUMMARY:CEG Bi-Monthly Meeting
DESCRIPTION:Date: May 14\, 2021 \nTime: 10:00 AM
URL:https://cegsoflo.org/event/ceg-bi-monthly-meeting/
ATTACH;FMTTYPE=image/jpeg:https://cegsoflo.org/wp-content/uploads/2024/08/FB_Strat1_05181-1.jpg
END:VEVENT
END:VCALENDAR