BEGIN:VCALENDAR
VERSION:2.0
PRODID:-//CEG - ECPv6.15.20//NONSGML v1.0//EN
CALSCALE:GREGORIAN
METHOD:PUBLISH
X-ORIGINAL-URL:https://cegsoflo.org
X-WR-CALDESC:Events for CEG
REFRESH-INTERVAL;VALUE=DURATION:PT1H
X-Robots-Tag:noindex
X-PUBLISHED-TTL:PT1H
BEGIN:VTIMEZONE
TZID:UTC
BEGIN:STANDARD
TZOFFSETFROM:+0000
TZOFFSETTO:+0000
TZNAME:UTC
DTSTART:20230101T000000
END:STANDARD
END:VTIMEZONE
BEGIN:VEVENT
DTSTART;TZID=UTC:20240913T100000
DTEND;TZID=UTC:20240913T110000
DTSTAMP:20260424T154131
CREATED:20240805T191628Z
LAST-MODIFIED:20240806T185002Z
UID:3491-1726221600-1726225200@cegsoflo.org
SUMMARY:CEG Bi-Monthly Meeting September
DESCRIPTION:Date: Sept 13\, 2024\nTime: 10:00 AM\nRSVP to attend – Click Here.
URL:https://cegsoflo.org/event/ceg-bi-monthly-meeting-september-2/
ATTACH;FMTTYPE=image/png:https://cegsoflo.org/wp-content/uploads/2024/08/Sept.png
END:VEVENT
END:VCALENDAR